BEGIN:VCALENDAR
VERSION:2.0
PRODID:-//Plone.org//NONSGML plone.app.event//EN
X-WR-TIMEZONE:America/Sao_Paulo
BEGIN:VEVENT
SUMMARY:ASSEMBLEIA DO SINDIFES em [ Auditório B106 do CAD3]
DTSTART;TZID=America/Sao_Paulo;VALUE=DATE-TIME:20240604T080000
DTEND;TZID=America/Sao_Paulo;VALUE=DATE-TIME:20240604T170000
DTSTAMP;VALUE=DATE-TIME:20260419T235721Z
UID:e26be094556d4c8a81cf7bb609821f3f@150.164.76.86:8080
CREATED;VALUE=DATE-TIME:20240527T153657Z
DESCRIPTION:<p>ASSEMBLEIA DO SINDIFES</p>
LAST-MODIFIED;VALUE=DATE-TIME:20240527T155829Z
URL:http://150.164.76.86:8080/cac/agenda/5014874496877025678
END:VEVENT
BEGIN:VTIMEZONE
TZID:America/Sao_Paulo
X-LIC-LOCATION:America/Sao_Paulo
BEGIN:STANDARD
DTSTART;VALUE=DATE-TIME:20240217T230000
TZNAME:BRT
TZOFFSETFROM:-0200
TZOFFSETTO:-0300
END:STANDARD
END:VTIMEZONE
END:VCALENDAR
