BEGIN:VCALENDAR
VERSION:2.0
PRODID:-//Plone.org//NONSGML plone.app.event//EN
X-WR-TIMEZONE:America/Sao_Paulo
BEGIN:VEVENT
SUMMARY:Encontro de Orientação para estudantes que realizarão mobilidad
 e em 2023/2 em [ Auditorio A102 do Cad 2]
DTSTART;TZID=America/Sao_Paulo;VALUE=DATE-TIME:20230313T160000
DTEND;TZID=America/Sao_Paulo;VALUE=DATE-TIME:20230315T150000
DTSTAMP;VALUE=DATE-TIME:20260421T164220Z
UID:6fa330f2ccd84c129c1ab5cefdc3b3eb@150.164.76.86:8080
CREATED;VALUE=DATE-TIME:20230227T192108Z
DESCRIPTION:O evento consiste no Encontro de Orientação\, realizado pelo
  Setor de Mobilidade da Diretoria de Relações Internacionais aos alunos 
 da UFMG que realizarão mobilidade pelo âmbito do Edital Unificado 005_20
 22 no segundo semestre de 2023\, cujo objetivo é explicar o processo de i
 ntercâmbio\, oferecer um panorama da documentação e retirar dúvidas.\n
 \nO número de estudantes esperado é cerca de 80 em cada um dos dias.\n\n
 Gostaríamos de reservar o espaço para dois dias:\n\nSegunda-feira 13/03 
 - 17h às 19h\nQuarta-feira 15/03 - 12h até 14h\n\nPrecisaremos dos segui
 ntes equipamentos:\n01 microfone de mão c/ fio\n01 microfone de mesa\n01 
 notebook com acesso à internet e conectado ao sistema multimídia\n\nGost
 aríamos também de verificar sobre a possibilidade de gravação do event
 o SOMENTE NA QUARTA-FEIRA para disponibilização no YouTube.
LAST-MODIFIED;VALUE=DATE-TIME:20230227T194333Z
URL:http://150.164.76.86:8080/cac/agenda/5012854645175628758
END:VEVENT
BEGIN:VTIMEZONE
TZID:America/Sao_Paulo
X-LIC-LOCATION:America/Sao_Paulo
BEGIN:STANDARD
DTSTART;VALUE=DATE-TIME:20230225T230000
TZNAME:BRT
TZOFFSETFROM:-0200
TZOFFSETTO:-0300
END:STANDARD
END:VTIMEZONE
END:VCALENDAR
