BEGIN:VCALENDAR
VERSION:2.0
PRODID:-//Plone.org//NONSGML plone.app.event//EN
X-WR-TIMEZONE:America/Sao_Paulo
BEGIN:VEVENT
SUMMARY:Inauguração do Centro de Ensino e Inovação - CEI em [ Outros e
 spacos]
DTSTART;TZID=America/Sao_Paulo;VALUE=DATE-TIME:20250321T140000
DTEND;TZID=America/Sao_Paulo;VALUE=DATE-TIME:20250321T160000
DTSTAMP;VALUE=DATE-TIME:20260419T120327Z
UID:feabfec360434c4ab397a6f53074d8f2@150.164.76.86:8080
CREATED;VALUE=DATE-TIME:20250317T180048Z
DESCRIPTION:<p><span style="text-align: left\; text-decoration-thickness: 
 initial\; text-decoration-style: initial\; text-decoration-color: initial\
 ; float: none\; ">Inauguração do Centro de Ensino e Inovação - CEI</sp
 an></p>
LAST-MODIFIED;VALUE=DATE-TIME:20250317T180100Z
URL:http://150.164.76.86:8080/cac/agenda/5008805828401569260
END:VEVENT
BEGIN:VTIMEZONE
TZID:America/Sao_Paulo
X-LIC-LOCATION:America/Sao_Paulo
BEGIN:STANDARD
DTSTART;VALUE=DATE-TIME:20250215T230000
TZNAME:BRT
TZOFFSETFROM:-0200
TZOFFSETTO:-0300
END:STANDARD
END:VTIMEZONE
END:VCALENDAR
