BEGIN:VCALENDAR
VERSION:2.0
PRODID:-//Plone.org//NONSGML plone.app.event//EN
X-WR-TIMEZONE:America/Sao_Paulo
BEGIN:VEVENT
SUMMARY:Quarta Doze e Trinta (Sylvia Klein) em [ Auditorio da Reitoria]
DTSTART;TZID=America/Sao_Paulo;VALUE=DATE-TIME:20220921T080000
DTEND;TZID=America/Sao_Paulo;VALUE=DATE-TIME:20220921T170000
DTSTAMP;VALUE=DATE-TIME:20260422T012355Z
UID:bb957e0ef70e45b280eaf99d1f8a380b@150.164.76.86:8080
CREATED;VALUE=DATE-TIME:20220525T194144Z
DESCRIPTION:<p>Quarta Doze e Trinta Apresentação Sylvia Klein Necessidad
 e de aparelhagem de som e luz</p>
LAST-MODIFIED;VALUE=DATE-TIME:20220810T190644Z
URL:http://150.164.76.86:8080/cac/agenda/5006324751523025116
END:VEVENT
BEGIN:VTIMEZONE
TZID:America/Sao_Paulo
X-LIC-LOCATION:America/Sao_Paulo
BEGIN:STANDARD
DTSTART;VALUE=DATE-TIME:20220219T230000
TZNAME:BRT
TZOFFSETFROM:-0200
TZOFFSETTO:-0300
END:STANDARD
END:VTIMEZONE
END:VCALENDAR
