BEGIN:VCALENDAR
VERSION:2.0
PRODID:-//Plone.org//NONSGML plone.app.event//EN
X-WR-TIMEZONE:America/Sao_Paulo
BEGIN:VEVENT
SUMMARY:X Congresso Basileiro de Micologia em [ Auditorio Nobre do CAD 1]
DTSTART;TZID=America/Sao_Paulo;VALUE=DATE-TIME:20240215T080000
DTEND;TZID=America/Sao_Paulo;VALUE=DATE-TIME:20240226T220000
DTSTAMP;VALUE=DATE-TIME:20260420T080956Z
UID:d1a461183bb34c8692a36265b30b98f2@150.164.76.86:8080
CREATED;VALUE=DATE-TIME:20221107T170727Z
DESCRIPTION:<p>Precisamos de salas de aula\, auditório nobre e auditório
 s 1A\, 2A\, infraestrutura de audiovisual (projetores multimidia)\, cantin
 a ara abrigar palestras magistrais\, mesas-redondas\, simpósios\, mini-cu
 rsos e exposição de posteres. O evento será entre 18 a 25 de fevereiro 
 de 2024\, no entanto solicitamos 1 dia antes e 1 dia depois do evento ara 
 realizar montagem e desmontagem de estruturas. A SOCIEDADE BRASILEIRA DE M
 ICOLOGIA (SBMic) é uma entidade pública sem fins lucrativos que busca in
 tegrar os micólogos brasileiros\, desde sua fundação\, em 1990. A SBMic
  (https://sbmic.org/) é coordenada por uma Diretoria Nacional com sede at
 ual na cidade de Viçosa (MG)\, além de contar com o apoio de vários rep
 resentantes regionais e comissões científicas nas suas diversas atividad
 es. Entre as atividades a cargo da SBMic\, incluem-se ações de incentivo
  ao ensino de graduação e pós-graduação\, participação de discussõ
 es sobre a política científica brasileira\, apoio à organização de re
 uniões regionais e seus congressos trienais que contam com convidados e p
 articipantes do Brasil e exterior. Dentre os eventos científicos organiza
 dos ou apoiados pela SBMic\, destacamos o “Congresso Brasileiro de Micol
 ogia” que ocorre trienalmente desde 1995. Reafirmando o compromisso da S
 BMic com a divulgação da ciência e com a comunidade micológica\, em 20
 24 o evento ocorrerá de forma presencial pela primeira vez após a pandem
 ia de COVID-19. O Congresso conta tradicionalmente com a participação ex
 pressiva da comunidade científica de estudantes e profissionais da Micolo
 gia e de outras áreas correlatas\, oscilando o número de participantes e
 ntre 850 a 1.300\, considerando-se os eventos dos últimos 15 anos. O núm
 ero de trabalhos apresentados (graduação e pós-graduação) tem variado
  entre 500 e 850 resumos. Esses dados colocam o Congresso Brasileiro de Mi
 cologia como um dos importantes eventos científicos que ocorrem atualment
 e no país. Nesse evento participam micólogos de renome internacional ao 
 lado de expoentes nacionais\, atuantes em diferentes especialidades da Mic
 ologia\, incluindo abordagens interdisciplinares com interface da Micologi
 a como as áreas de meio ambiente\, saúde humana e animal\, agrária\, in
 dustrial e de alimentos. O público-alvo inclui docentes do ensino superio
 r\, pesquisadores de instituições públicas e privadas\, e estudantes de
  pós-graduação e graduação procedentes dos diferentes estados do Bras
 il e de outros países O X Congresso Brasileiro de Micologia (CBMic 2024) 
 ocorrerá em Belo Horizonte (MG)\, tendo sido proposto a terceira semana d
 o mês de fevereiro de 2024 (18-24 de fev de 2024). Pretende-se com o even
 to propiciar uma convergência de pesquisadores com atuação na Micologia
  e áreas de interface\, aglutinando uma grande e vibrante comunidade cien
 tífica\, representantes governamentais e empresas do setor para a discuss
 ão dos grandes temas nacionais. Solicitamos\, portanto\, o apoio instituc
 ional e logístico da UFMG para que o evento possa se realizar no Centro d
 e Atividades Didáticas 3 (CAD3)\, uma vez que esperamos entre 1000-1350 p
 articipantes\, que terá o nosso membro da Diretoria da SBMic\, Prof. Dr. 
 Aristóteles Góes Neto (ICB- Microbiologia e Coord. Do PPG Bioinformátic
 a UFMG) como Presidente do Congresso</p>
LAST-MODIFIED;VALUE=DATE-TIME:20240130T153907Z
URL:http://150.164.76.86:8080/cac/agenda/4988827564254212553
END:VEVENT
BEGIN:VTIMEZONE
TZID:America/Sao_Paulo
X-LIC-LOCATION:America/Sao_Paulo
BEGIN:DAYLIGHT
DTSTART;VALUE=DATE-TIME:20231015T010000
TZNAME:BRST
TZOFFSETFROM:-0300
TZOFFSETTO:-0200
END:DAYLIGHT
BEGIN:STANDARD
DTSTART;VALUE=DATE-TIME:20240217T230000
TZNAME:BRT
TZOFFSETFROM:-0200
TZOFFSETTO:-0300
END:STANDARD
END:VTIMEZONE
END:VCALENDAR
