BEGIN:VCALENDAR
VERSION:2.0
PRODID:-//Plone.org//NONSGML plone.app.event//EN
X-WR-TIMEZONE:America/Sao_Paulo
BEGIN:VEVENT
SUMMARY:Concurso Exército ESA - Escola de Sargento das Armas em [ Auditor
 io A102 do Cad 2 Auditorio A104 do Cad 2 Auditório B101/102 do CAD 3 Audi
 tório B106 do CAD3 Auditório B107 do CAD3 Auditório B301 do CAD 3 Audit
 ório B302 do CAD 3 Outros espacos]
DTSTART;TZID=America/Sao_Paulo;VALUE=DATE-TIME:20231007T060000
DTEND;TZID=America/Sao_Paulo;VALUE=DATE-TIME:20231008T190000
DTSTAMP;VALUE=DATE-TIME:20260421T015637Z
UID:2f9c8d28045f408c831523887afa3f61@150.164.76.86:8080
CREATED;VALUE=DATE-TIME:20230426T121901Z
DESCRIPTION:<p>Conforme Of 431/2023/GAB-REI-UFMG\, assinado pelo Prof. Rui
  Rothe-Neves\, enviado ao Chefe do Estado-Maior da 4ª Região Militar\, S
 r Marcus Bastos Lopes\, em 25 de abril de 2024</p>\n<p> </p>
LAST-MODIFIED;VALUE=DATE-TIME:20230823T133635Z
URL:http://150.164.76.86:8080/cac/agenda/4984616616056449782
END:VEVENT
BEGIN:VTIMEZONE
TZID:America/Sao_Paulo
X-LIC-LOCATION:America/Sao_Paulo
BEGIN:STANDARD
DTSTART;VALUE=DATE-TIME:20230225T230000
TZNAME:BRT
TZOFFSETFROM:-0200
TZOFFSETTO:-0300
END:STANDARD
END:VTIMEZONE
END:VCALENDAR
