BEGIN:VCALENDAR
VERSION:2.0
PRODID:-//Plone.org//NONSGML plone.app.event//EN
X-WR-TIMEZONE:America/Sao_Paulo
BEGIN:VEVENT
SUMMARY:AudiÊncia pública para aprimoramento da política de acessibilid
 ade e inclusão da UFMG em [ Auditório B101/102 do CAD 3]
DTSTART;TZID=America/Sao_Paulo;VALUE=DATE-TIME:20240522T130000
DTEND;TZID=America/Sao_Paulo;VALUE=DATE-TIME:20240522T180000
DTSTAMP;VALUE=DATE-TIME:20260420T032019Z
UID:918efecb0cad41649b8adfebd69ae4a3@150.164.76.86:8080
CREATED;VALUE=DATE-TIME:20240222T210350Z
DESCRIPTION:AudiÊncia pública com a comunidade universitária para debat
 e sobr ea política de acessibilçidade e inclusão da ufmg\n\nEquipamento
 s para apresentação de powerpoint\, microfones\, dois equipamentos de v
 ídeo para gravação do evento e dos interpretes de Libras
LAST-MODIFIED;VALUE=DATE-TIME:20240517T175854Z
URL:http://150.164.76.86:8080/cac/agenda/4974624820719651350
END:VEVENT
BEGIN:VTIMEZONE
TZID:America/Sao_Paulo
X-LIC-LOCATION:America/Sao_Paulo
BEGIN:STANDARD
DTSTART;VALUE=DATE-TIME:20240217T230000
TZNAME:BRT
TZOFFSETFROM:-0200
TZOFFSETTO:-0300
END:STANDARD
END:VTIMEZONE
END:VCALENDAR
