BEGIN:VCALENDAR
VERSION:2.0
PRODID:-//Plone.org//NONSGML plone.app.event//EN
X-WR-TIMEZONE:America/Sao_Paulo
BEGIN:VEVENT
SUMMARY:EVENTO FAME em [ Auditório B101/102 do CAD 3]
DTSTART;TZID=America/Sao_Paulo;VALUE=DATE-TIME:20231116T120000
DTEND;TZID=America/Sao_Paulo;VALUE=DATE-TIME:20231117T210000
DTSTAMP;VALUE=DATE-TIME:20260420T143123Z
UID:2a750291a9e94149ae4be3ae1ffb6dee@150.164.76.86:8080
CREATED;VALUE=DATE-TIME:20230811T171424Z
DESCRIPTION:<p>Modo aula\, sendo necessário microfone\, som e retroprojet
 or.</p>
LAST-MODIFIED;VALUE=DATE-TIME:20231107T172946Z
URL:http://150.164.76.86:8080/cac/agenda/4958757844044999940
END:VEVENT
BEGIN:VTIMEZONE
TZID:America/Sao_Paulo
X-LIC-LOCATION:America/Sao_Paulo
BEGIN:DAYLIGHT
DTSTART;VALUE=DATE-TIME:20231015T010000
TZNAME:BRST
TZOFFSETFROM:-0300
TZOFFSETTO:-0200
END:DAYLIGHT
END:VTIMEZONE
END:VCALENDAR
