BEGIN:VCALENDAR
VERSION:2.0
PRODID:-//Plone.org//NONSGML plone.app.event//EN
X-WR-TIMEZONE:America/Sao_Paulo
BEGIN:VEVENT
SUMMARY:Feriado - Independência do Brasil em [ Auditorio da Reitoria Sagu
 ao da Reitoria Gramado da Reitoria Arena da praça de serviços Entorno da
  Praca de Servicos Auditorio Nobre do CAD 1 Auditorio 1A do CAD 1 Auditori
 o 2A do CAD 1 Auditorio A102 do Cad 2 Auditorio A104 do Cad 2 Auditório B
 101/102 do CAD 3 Auditório B106 do CAD3 Auditório B107 do CAD3 Auditóri
 o B301 do CAD 3 Auditório B302 do CAD 3 Auditório B306 do CAD3 Outros es
 pacos]
DTSTART;TZID=America/Sao_Paulo;VALUE=DATE-TIME:20240907T080000
DTEND;TZID=America/Sao_Paulo;VALUE=DATE-TIME:20240907T220000
DTSTAMP;VALUE=DATE-TIME:20260419T193135Z
UID:dee3f83453184d8eb1ab7049a503c829@150.164.76.86:8080
CREATED;VALUE=DATE-TIME:20231106T132212Z
DESCRIPTION:<p>Feriado</p>
LAST-MODIFIED;VALUE=DATE-TIME:20231106T132241Z
URL:http://150.164.76.86:8080/cac/agenda/4947537570456537071
END:VEVENT
BEGIN:VTIMEZONE
TZID:America/Sao_Paulo
X-LIC-LOCATION:America/Sao_Paulo
BEGIN:STANDARD
DTSTART;VALUE=DATE-TIME:20240217T230000
TZNAME:BRT
TZOFFSETFROM:-0200
TZOFFSETTO:-0300
END:STANDARD
END:VTIMEZONE
END:VCALENDAR
