BEGIN:VCALENDAR
VERSION:2.0
PRODID:-//Plone.org//NONSGML plone.app.event//EN
X-WR-TIMEZONE:America/Sao_Paulo
BEGIN:VEVENT
SUMMARY:Literary Tour through Han Kangs Masterworks em [ Auditório B106 d
 o CAD3]
DTSTART;TZID=America/Sao_Paulo;VALUE=DATE-TIME:20250122T100000
DTEND;TZID=America/Sao_Paulo;VALUE=DATE-TIME:20250122T120000
DTSTAMP;VALUE=DATE-TIME:20260419T150857Z
UID:f95b95e4b1674acfafb91ff9aa4e099e@150.164.76.86:8080
CREATED;VALUE=DATE-TIME:20250106T185356Z
DESCRIPTION:O Prof. Chun Seh Jae (Coreia do Sul) irá ministrar uma palest
 ra sobre o tema “Literary Tour through Han Kang's Masterworks” no dia 
 22/01/2025.  O horário previsto para o início da palestra é às 11h\, c
 om duração de 1 hora. Apenas um microfone e um equipamento para apresent
 ação de slides (PowerPoint) serão necessários.
LAST-MODIFIED;VALUE=DATE-TIME:20250107T192055Z
URL:http://150.164.76.86:8080/cac/agenda/4942152359192558843
END:VEVENT
BEGIN:VTIMEZONE
TZID:America/Sao_Paulo
X-LIC-LOCATION:America/Sao_Paulo
BEGIN:DAYLIGHT
DTSTART;VALUE=DATE-TIME:20241020T010000
TZNAME:BRST
TZOFFSETFROM:-0300
TZOFFSETTO:-0200
END:DAYLIGHT
END:VTIMEZONE
END:VCALENDAR
