BEGIN:VCALENDAR
VERSION:2.0
PRODID:-//Plone.org//NONSGML plone.app.event//EN
X-WR-TIMEZONE:America/Sao_Paulo
BEGIN:VEVENT
SUMMARY:Aquisição pin-off da UFMG Grupo Bradesco em [ Auditorio da Reito
 ria]
DTSTART;TZID=America/Sao_Paulo;VALUE=DATE-TIME:20240717T090000
DTEND;TZID=America/Sao_Paulo;VALUE=DATE-TIME:20240717T210000
DTSTAMP;VALUE=DATE-TIME:20260419T234753Z
UID:6a6fdc6240d64528931e5e0947edfc0c@150.164.76.86:8080
CREATED;VALUE=DATE-TIME:20240701T140951Z
DESCRIPTION:<p>O evento será composto de palestra e painéis com cerca de
  5 participantes e um moderador. A reitora irá abrir o evento. A progrma
 ção está prevista para ter início as 16h\, com termino as 19h30 seguid
 a de coquetel até as 21h (sem álcool) Assim que tivermos a programação
  completa enviaremos. O evento não terá transmissão.</p>
LAST-MODIFIED;VALUE=DATE-TIME:20240701T164232Z
URL:http://150.164.76.86:8080/cac/agenda/4929486898011466358
END:VEVENT
BEGIN:VTIMEZONE
TZID:America/Sao_Paulo
X-LIC-LOCATION:America/Sao_Paulo
BEGIN:STANDARD
DTSTART;VALUE=DATE-TIME:20240217T230000
TZNAME:BRT
TZOFFSETFROM:-0200
TZOFFSETTO:-0300
END:STANDARD
END:VTIMEZONE
END:VCALENDAR
