BEGIN:VCALENDAR
VERSION:2.0
PRODID:-//Plone.org//NONSGML plone.app.event//EN
X-WR-TIMEZONE:America/Sao_Paulo
BEGIN:VEVENT
SUMMARY:Solenidade de Colação de Grau oficial do IGC - Geologia e Turism
 o em [ Auditorio Nobre do CAD 1]
DTSTART;TZID=America/Sao_Paulo;VALUE=DATE-TIME:20230228T100000
DTEND;TZID=America/Sao_Paulo;VALUE=DATE-TIME:20230228T120000
DTSTAMP;VALUE=DATE-TIME:20260421T175558Z
UID:bf9914199c9c408faf7627b710c5c34d@150.164.76.86:8080
CREATED;VALUE=DATE-TIME:20220908T201855Z
DESCRIPTION:<p>Solicitamos o empréstimo do auditório (mesa de honra\, ba
 ndeiras\, arranjo de fores artificiais\, 1 mesa pequena e 3 cadeiras)\, be
 m como local para os formandos vestirem a beca.</p>
LAST-MODIFIED;VALUE=DATE-TIME:20230130T133431Z
URL:http://150.164.76.86:8080/cac/agenda/4927845878595278276
END:VEVENT
BEGIN:VTIMEZONE
TZID:America/Sao_Paulo
X-LIC-LOCATION:America/Sao_Paulo
BEGIN:STANDARD
DTSTART;VALUE=DATE-TIME:20230225T230000
TZNAME:BRT
TZOFFSETFROM:-0200
TZOFFSETTO:-0300
END:STANDARD
END:VTIMEZONE
END:VCALENDAR
