BEGIN:VCALENDAR
VERSION:2.0
PRODID:-//Plone.org//NONSGML plone.app.event//EN
X-WR-TIMEZONE:America/Sao_Paulo
BEGIN:VEVENT
SUMMARY:Reunião CEPE em [ Outros espacos]
DTSTART;TZID=America/Sao_Paulo;VALUE=DATE-TIME:20230817T140000
DTEND;TZID=America/Sao_Paulo;VALUE=DATE-TIME:20230817T180000
DTSTAMP;VALUE=DATE-TIME:20260421T091108Z
UID:ce529bbeeb8c497a995cbfa816daa4a6@150.164.76.86:8080
CREATED;VALUE=DATE-TIME:20230810T152338Z
DESCRIPTION:<p>Reunião CEPE</p>
LAST-MODIFIED;VALUE=DATE-TIME:20230810T152356Z
URL:http://150.164.76.86:8080/cac/agenda/4910936029227651837
END:VEVENT
BEGIN:VTIMEZONE
TZID:America/Sao_Paulo
X-LIC-LOCATION:America/Sao_Paulo
BEGIN:STANDARD
DTSTART;VALUE=DATE-TIME:20230225T230000
TZNAME:BRT
TZOFFSETFROM:-0200
TZOFFSETTO:-0300
END:STANDARD
END:VTIMEZONE
END:VCALENDAR
