BEGIN:VCALENDAR
VERSION:2.0
PRODID:-//Plone.org//NONSGML plone.app.event//EN
X-WR-TIMEZONE:America/Sao_Paulo
BEGIN:VEVENT
SUMMARY:Posse dos servidores TÉCNICO ADMINISTRATIVOS da UFMG em [ Auditor
 io A104 do Cad 2]
DTSTART;TZID=America/Sao_Paulo;VALUE=DATE-TIME:20240419T130000
DTEND;TZID=America/Sao_Paulo;VALUE=DATE-TIME:20240419T170000
DTSTAMP;VALUE=DATE-TIME:20260420T044449Z
UID:d1baed3503a84bc291197e64bc6eaf35@150.164.76.86:8080
CREATED;VALUE=DATE-TIME:20240320T152047Z
DESCRIPTION:Palestra Introdutória para receber servidores recém contrata
 dos na UFMG.\nNotebook do auditório para apresentação miltimídia\; doi
 s microfones um para a mesa dos palestrantes e um móvel para circular ent
 re os servidores na platéia\; uma mesa (pode ser fora do auditório) para
  servir café e água.
LAST-MODIFIED;VALUE=DATE-TIME:20240408T114345Z
URL:http://150.164.76.86:8080/cac/agenda/490676354814110720
END:VEVENT
BEGIN:VTIMEZONE
TZID:America/Sao_Paulo
X-LIC-LOCATION:America/Sao_Paulo
BEGIN:STANDARD
DTSTART;VALUE=DATE-TIME:20240217T230000
TZNAME:BRT
TZOFFSETFROM:-0200
TZOFFSETTO:-0300
END:STANDARD
END:VTIMEZONE
END:VCALENDAR
