BEGIN:VCALENDAR
VERSION:2.0
PRODID:-//Plone.org//NONSGML plone.app.event//EN
X-WR-TIMEZONE:America/Sao_Paulo
BEGIN:VEVENT
SUMMARY:2° Café Hidrogeológico em [ Auditório B101/102 do CAD 3]
DTSTART;TZID=America/Sao_Paulo;VALUE=DATE-TIME:20240618T090000
DTEND;TZID=America/Sao_Paulo;VALUE=DATE-TIME:20240618T200000
DTSTAMP;VALUE=DATE-TIME:20260420T014215Z
UID:b4985ce6c6014d3cac4ee63b392e89a1@150.164.76.86:8080
CREATED;VALUE=DATE-TIME:20240318T122950Z
DESCRIPTION:<p>Encontro de profissionais de Geologia\, Ambiental e Hidroge
 ologia para palestras e mesas redondas sobre recursos hídricos.</p>
LAST-MODIFIED;VALUE=DATE-TIME:20240405T134448Z
URL:http://150.164.76.86:8080/cac/agenda/4902549786580322086
END:VEVENT
BEGIN:VTIMEZONE
TZID:America/Sao_Paulo
X-LIC-LOCATION:America/Sao_Paulo
BEGIN:STANDARD
DTSTART;VALUE=DATE-TIME:20240217T230000
TZNAME:BRT
TZOFFSETFROM:-0200
TZOFFSETTO:-0300
END:STANDARD
END:VTIMEZONE
END:VCALENDAR
