BEGIN:VCALENDAR
VERSION:2.0
PRODID:-//Plone.org//NONSGML plone.app.event//EN
X-WR-TIMEZONE:America/Sao_Paulo
BEGIN:VEVENT
SUMMARY:Banca de Heteroidentificação em [ Auditório B101/102 do CAD 3 A
 uditório B106 do CAD3 - s/ ar condic Auditório B107 do CAD3]
DTSTART;TZID=America/Sao_Paulo;VALUE=DATE-TIME:20240325T080000
DTEND;TZID=America/Sao_Paulo;VALUE=DATE-TIME:20240328T220000
DTSTAMP;VALUE=DATE-TIME:20260420T063251Z
UID:1029f1ef0b5c4eef9a658412f246302b@150.164.76.86:8080
CREATED;VALUE=DATE-TIME:20240126T202247Z
DESCRIPTION:<p>Banca de heteroidentificação dos ingressantes 2024</p>
LAST-MODIFIED;VALUE=DATE-TIME:20240126T202301Z
URL:http://150.164.76.86:8080/cac/agenda/4900426535253010458
END:VEVENT
BEGIN:VTIMEZONE
TZID:America/Sao_Paulo
X-LIC-LOCATION:America/Sao_Paulo
BEGIN:STANDARD
DTSTART;VALUE=DATE-TIME:20240217T230000
TZNAME:BRT
TZOFFSETFROM:-0200
TZOFFSETTO:-0300
END:STANDARD
END:VTIMEZONE
END:VCALENDAR
