BEGIN:VCALENDAR
VERSION:2.0
PRODID:-//Plone.org//NONSGML plone.app.event//EN
X-WR-TIMEZONE:America/Sao_Paulo
BEGIN:VEVENT
SUMMARY:6° Simpósio Científico ICOMOS Brasil e 2° Simpósio Cientifico
  ICOMOS/LAC em [ Auditório B106 do CAD3 Auditório B107 do CAD3 Outros es
 pacos]
DTSTART;TZID=America/Sao_Paulo;VALUE=DATE-TIME:20231106T081900
DTEND;TZID=America/Sao_Paulo;VALUE=DATE-TIME:20231108T081900
DTSTAMP;VALUE=DATE-TIME:20260420T132017Z
UID:95ec767cbbc54351938d6720303b8a5e@150.164.76.86:8080
CREATED;VALUE=DATE-TIME:20230517T000448Z
DESCRIPTION:<p>Trata-se de um evento que dá sequência a uma série de si
 mpósios científicos na área do patrimônio\, com o apoio do ICOMOS inte
 rnacional\, que reúne os maiores especialistas em patrimônio cultural do
  mundo e assessora a UNESCO para assuntos do patrimônio mundial. Com este
  evento\, está se consolidando em nosso país um fórum especializado de 
 discussão e debate acerca do patrimônio cultural\, contribuindo para faz
 er avançar o estado da arte desse campo e garantindo uma atuação mais q
 ualificada dos profissionais. A cada ano\, além de revisitar os fundament
 os da área\, o evento se debruça sobre um tema específico\, que será o
 bjeto de maior atenção\, sendo o tema escolhido em 2018 os desafios da p
 reservação do moderno – tema da mais alta relevância em nosso país\,
  que possui inúmero sítios\, edifícios e manifestações ligadas a essa
  etapa histórica.</p>
LAST-MODIFIED;VALUE=DATE-TIME:20231018T182321Z
URL:http://150.164.76.86:8080/cac/agenda/4892452744731039608
END:VEVENT
BEGIN:VTIMEZONE
TZID:America/Sao_Paulo
X-LIC-LOCATION:America/Sao_Paulo
BEGIN:DAYLIGHT
DTSTART;VALUE=DATE-TIME:20231015T010000
TZNAME:BRST
TZOFFSETFROM:-0300
TZOFFSETTO:-0200
END:DAYLIGHT
END:VTIMEZONE
END:VCALENDAR
