BEGIN:VCALENDAR
VERSION:2.0
PRODID:-//Plone.org//NONSGML plone.app.event//EN
X-WR-TIMEZONE:America/Sao_Paulo
BEGIN:VEVENT
SUMMARY:Encontro Final Programa RECAJ UFMG e Emancipa em [ Gramado da Reit
 oria]
DTSTART;TZID=America/Sao_Paulo;VALUE=DATE-TIME:20221105T080000
DTEND;TZID=America/Sao_Paulo;VALUE=DATE-TIME:20221105T120000
DTSTAMP;VALUE=DATE-TIME:20260421T204409Z
UID:07d6b23954ad4a86815ddc2dba0a68b2@150.164.76.86:8080
CREATED;VALUE=DATE-TIME:20220603T160011Z
DESCRIPTION:<p>O Programa RECAJ UFMG\, vinculado à Faculdade de Direito d
 a UFMG\, está promovendo no ano de 2022 atividades de extensão relaciona
 das a termo de cooperação firmado com a Rede Emancipa - Movimento Social
  de Educação Popular\, cujo objeto é o desenvolvimento de atividades de
  extensão conjunta voltadas a rodas de conversas\, seminários e debates 
 sobre os direitos humanos\, com destaque para questões do ENEM e de vesti
 bulares de Instituições de Ensino Superior públicas. O último encontro
  proposto para o ano será realizado no dia 12 de novembro de 2022 (sábad
 o) e terá por atividade a realização de um jogo sobre direitos humanos 
 da infância e juventude\, para promoção de um encontro lúdico de apren
 dizado para a realidade dos alunos do Emancipa e para a prova do Enem que 
 se inicia na semana seguinte. Trata-se de um jogo de cartas e tabuleiro ch
 amado "Fala\, Jovem!" desenvolvido pelo Programa RECAJ UFMG. A proposta é
  que esse encontro final aconteça no campus Pampulha\, no gramado da Reit
 oria\, para dar espaço amplo à realização do jogo e criar oportunidade
  de os alunos do Emancipa conhecerem o campus e se apropriarem do espaço 
 da universidade pública. A atividade contará com a presença dos alunos 
 do Emancipa da unidade Floresta\, dos extensionistas do Programa RECAJ UFM
 G\, incluindo graduandos\, pós graduandos e coordenação\, e dos coorden
 adores do Emancipa envolvidos na ação. Os equipamentos utilizados serão
  apenas os materiais que integram o jogo. Após a realização do jogo no 
 gramado\, seguirá uma caminhada com os alunos do Emancipa pela rua princi
 pal para que conheçam as faculdades ali localizadas.</p>
LAST-MODIFIED;VALUE=DATE-TIME:20220908T194226Z
URL:http://150.164.76.86:8080/cac/agenda/4865340028171370058
END:VEVENT
BEGIN:VTIMEZONE
TZID:America/Sao_Paulo
X-LIC-LOCATION:America/Sao_Paulo
BEGIN:DAYLIGHT
DTSTART;VALUE=DATE-TIME:20221016T010000
TZNAME:BRST
TZOFFSETFROM:-0300
TZOFFSETTO:-0200
END:DAYLIGHT
END:VTIMEZONE
END:VCALENDAR
