BEGIN:VCALENDAR
VERSION:2.0
PRODID:-//Plone.org//NONSGML plone.app.event//EN
X-WR-TIMEZONE:America/Sao_Paulo
BEGIN:VEVENT
SUMMARY:Inauguração obras FaE em [ Outros espacos]
DTSTART;TZID=America/Sao_Paulo;VALUE=DATE-TIME:20221129T110000
DTEND;TZID=America/Sao_Paulo;VALUE=DATE-TIME:20221129T120000
DTSTAMP;VALUE=DATE-TIME:20260421T220833Z
UID:ee8c0740b6d3484ea5b970762f6b656a@150.164.76.86:8080
CREATED;VALUE=DATE-TIME:20221123T151314Z
DESCRIPTION:<p>Inauguração e presença da reitora e secretário do MEC.<
 /p>
LAST-MODIFIED;VALUE=DATE-TIME:20221123T151345Z
URL:http://150.164.76.86:8080/cac/agenda/4864683308357854436
END:VEVENT
BEGIN:VTIMEZONE
TZID:America/Sao_Paulo
X-LIC-LOCATION:America/Sao_Paulo
BEGIN:DAYLIGHT
DTSTART;VALUE=DATE-TIME:20221016T010000
TZNAME:BRST
TZOFFSETFROM:-0300
TZOFFSETTO:-0200
END:DAYLIGHT
END:VTIMEZONE
END:VCALENDAR
