BEGIN:VCALENDAR
VERSION:2.0
PRODID:-//Plone.org//NONSGML plone.app.event//EN
X-WR-TIMEZONE:America/Sao_Paulo
BEGIN:VEVENT
SUMMARY:Reunião DRH - Levantamento de Necessidades de Desenvolvimento em 
 [ Auditorio A104 do Cad 2]
DTSTART;TZID=America/Sao_Paulo;VALUE=DATE-TIME:20240812T140000
DTEND;TZID=America/Sao_Paulo;VALUE=DATE-TIME:20240812T160000
DTSTAMP;VALUE=DATE-TIME:20260419T222704Z
UID:19770be6784843878c1f9e0306e52c7c@150.164.76.86:8080
CREATED;VALUE=DATE-TIME:20240806T130738Z
DESCRIPTION:<p>A Divisão de Desenvolvimento de Pessoal (DDP) do Departame
 nto de Desenvolvimento de Recursos Humanos (DRH)\, vinculado a esta Pró-R
 eitoria de Recursos Humanos (PRORH)\, dará início à elaboração do Pla
 no de Desenvolvimento de Pessoas (PDP) da UFMG para o ano de 2025. A prime
 ira etapa consiste no Levantamento de Necessidades de Desenvolvimento (LND
 )\, cujo objetivo é identificar ações que possam contribuir para a melh
 oria do desempenho da atribuição pública dos servidores e das equipes p
 or meio do desenvolvimento assertivo de competências. O LND será realiza
 do via plataforma do Sistema de Pessoal Civil da Administração Federal (
 SIPEC)\, como já aconteceu nos últimos dois anos\, demandando a particip
 ação ativa dos servidores e gestores das Unidades/Órgãos da UFMG para 
 inclusão e validação das necessidades de desenvolvimento levantadas\, n
 o referido portal.</p>
LAST-MODIFIED;VALUE=DATE-TIME:20240812T122102Z
URL:http://150.164.76.86:8080/cac/agenda/4859231657986428047
END:VEVENT
BEGIN:VTIMEZONE
TZID:America/Sao_Paulo
X-LIC-LOCATION:America/Sao_Paulo
BEGIN:STANDARD
DTSTART;VALUE=DATE-TIME:20240217T230000
TZNAME:BRT
TZOFFSETFROM:-0200
TZOFFSETTO:-0300
END:STANDARD
END:VTIMEZONE
END:VCALENDAR
