BEGIN:VCALENDAR
VERSION:2.0
PRODID:-//Plone.org//NONSGML plone.app.event//EN
X-WR-TIMEZONE:America/Sao_Paulo
BEGIN:VEVENT
SUMMARY:Recepção InovaLab - Início Fase 1 em [ Auditorio A102 do Cad 2]
DTSTART;TZID=America/Sao_Paulo;VALUE=DATE-TIME:20250324T120000
DTEND;TZID=America/Sao_Paulo;VALUE=DATE-TIME:20250324T180000
DTSTAMP;VALUE=DATE-TIME:20260419T120121Z
UID:0e099bfaabf4400b8a4dbec632ae6eae@150.164.76.86:8080
CREATED;VALUE=DATE-TIME:20250220T121333Z
DESCRIPTION:<p>Marco inicial do INOVALAB - Ciclo 2 - Fase 1 - Evento Prese
 ncial do Programa de Incubação CTIT INOVA UFMG\; Propósito de interaç
 ão da CTIT\, Inova\, parceiros institucionais e rede de apoio com as equi
 pes - projetos de pesquisa e empresas selecionadas\; Além de ser um espa
 ço para a comunidade empreendedora da UFMG conhecer o Inovalab\, CTIT e I
 NOVA.</p>
LAST-MODIFIED;VALUE=DATE-TIME:20250227T141827Z
URL:http://150.164.76.86:8080/cac/agenda/4844051321540764647
END:VEVENT
BEGIN:VTIMEZONE
TZID:America/Sao_Paulo
X-LIC-LOCATION:America/Sao_Paulo
BEGIN:STANDARD
DTSTART;VALUE=DATE-TIME:20250215T230000
TZNAME:BRT
TZOFFSETFROM:-0200
TZOFFSETTO:-0300
END:STANDARD
END:VTIMEZONE
END:VCALENDAR
