BEGIN:VCALENDAR
VERSION:2.0
PRODID:-//Plone.org//NONSGML plone.app.event//EN
X-WR-TIMEZONE:America/Sao_Paulo
BEGIN:VEVENT
SUMMARY:PAIXÃO DE CRISTO\, DOMINGO DE PÁSCOA E TIRADENTES em [ Auditorio
  da Reitoria Saguao da Reitoria Gramado da Reitoria Arena da praça de ser
 viços Entorno da Praca de Servicos Auditorio Nobre do CAD 1 Auditorio 1A 
 do CAD 1 Auditorio 2A do CAD 1 Auditorio A102 do Cad 2 Auditorio A104 do C
 ad 2 Auditório B101/102 do CAD 3 Auditório B106 do CAD3 Auditório B107 
 do CAD3 Auditório B301 do CAD 3 Auditório B302 do CAD 3 Auditório B306 
 do CAD3]
DTSTART;TZID=America/Sao_Paulo;VALUE=DATE-TIME:20250418T060000
DTEND;TZID=America/Sao_Paulo;VALUE=DATE-TIME:20250421T230000
DTSTAMP;VALUE=DATE-TIME:20260419T104225Z
UID:bad515be6bb844ce93ef3a2fa71c9738@150.164.76.86:8080
CREATED;VALUE=DATE-TIME:20241031T172241Z
DESCRIPTION:<p>FERIADOS NACIONAIS</p>
LAST-MODIFIED;VALUE=DATE-TIME:20241031T180919Z
URL:http://150.164.76.86:8080/cac/agenda/484192652839963842
END:VEVENT
BEGIN:VTIMEZONE
TZID:America/Sao_Paulo
X-LIC-LOCATION:America/Sao_Paulo
BEGIN:STANDARD
DTSTART;VALUE=DATE-TIME:20250215T230000
TZNAME:BRT
TZOFFSETFROM:-0200
TZOFFSETTO:-0300
END:STANDARD
END:VTIMEZONE
END:VCALENDAR
