BEGIN:VCALENDAR
VERSION:2.0
PRODID:-//Plone.org//NONSGML plone.app.event//EN
X-WR-TIMEZONE:America/Sao_Paulo
BEGIN:VEVENT
SUMMARY:20 anos do PPG em Bioinformática em [ Auditório B101/102 do CAD 
 3]
DTSTART;TZID=America/Sao_Paulo;VALUE=DATE-TIME:20231124T090000
DTEND;TZID=America/Sao_Paulo;VALUE=DATE-TIME:20231124T180000
DTSTAMP;VALUE=DATE-TIME:20260420T142942Z
UID:2b6c51eebfbf4a9a9e250745d1298998@150.164.76.86:8080
CREATED;VALUE=DATE-TIME:20230531T125958Z
DESCRIPTION:<p>Seminários em comemoração pelos 20 anos do PPG em Bioinf
 ormática da UFMG.</p>
LAST-MODIFIED;VALUE=DATE-TIME:20230615T162701Z
URL:http://150.164.76.86:8080/cac/agenda/4840524710509392718
END:VEVENT
BEGIN:VTIMEZONE
TZID:America/Sao_Paulo
X-LIC-LOCATION:America/Sao_Paulo
BEGIN:DAYLIGHT
DTSTART;VALUE=DATE-TIME:20231015T010000
TZNAME:BRST
TZOFFSETFROM:-0300
TZOFFSETTO:-0200
END:DAYLIGHT
END:VTIMEZONE
END:VCALENDAR
