BEGIN:VCALENDAR
VERSION:2.0
PRODID:-//Plone.org//NONSGML plone.app.event//EN
X-WR-TIMEZONE:America/Sao_Paulo
BEGIN:VEVENT
SUMMARY:II Curso de Verão em Bioquímica e Imunologia em [ Auditório B10
 1/102 do CAD 3]
DTSTART;TZID=America/Sao_Paulo;VALUE=DATE-TIME:20250203T080000
DTEND;TZID=America/Sao_Paulo;VALUE=DATE-TIME:20250207T170000
DTSTAMP;VALUE=DATE-TIME:20260419T120045Z
UID:fa8524c07ad14193833d92292e93219b@150.164.76.86:8080
CREATED;VALUE=DATE-TIME:20240828T191951Z
DESCRIPTION:<p>O II Curso de Verão em Bioquímica e Imunologia será um e
 vento de duração de 5 dias (3 a 7 de fevereiro de 2025) com a finalidade
  de discutir tópicos referentes às áreas da Bioquímica e Imunologia. H
 averá palestras\, sessão de pôsteres e mini-cursos. O número de partic
 ipantes esperado é de 250 pessoas.</p>\n<p> </p>\n<p>Obs: Período está
  dentro do calendário acadêmico 2024.</p>
LAST-MODIFIED;VALUE=DATE-TIME:20250115T144442Z
URL:http://150.164.76.86:8080/cac/agenda/4837382054378903716
END:VEVENT
BEGIN:VTIMEZONE
TZID:America/Sao_Paulo
X-LIC-LOCATION:America/Sao_Paulo
BEGIN:DAYLIGHT
DTSTART;VALUE=DATE-TIME:20241020T010000
TZNAME:BRST
TZOFFSETFROM:-0300
TZOFFSETTO:-0200
END:DAYLIGHT
END:VTIMEZONE
END:VCALENDAR
