BEGIN:VCALENDAR
VERSION:2.0
PRODID:-//Plone.org//NONSGML plone.app.event//EN
X-WR-TIMEZONE:America/Sao_Paulo
BEGIN:VEVENT
SUMMARY:1o. Encontro do Projeto Rede Artesanato Brasil em [ Auditorio Nobr
 e do CAD 1]
DTSTART;TZID=America/Sao_Paulo;VALUE=DATE-TIME:20220607T100000
DTEND;TZID=America/Sao_Paulo;VALUE=DATE-TIME:20220607T180000
DTSTAMP;VALUE=DATE-TIME:20260422T050757Z
UID:cce067c7b7c246838d3910cecf24b90a@150.164.76.86:8080
CREATED;VALUE=DATE-TIME:20220506T191635Z
DESCRIPTION:<p>1o. Encontro do Projeto Rede Artesanato Brasileiro que ter
 á a participação da Profa. Sandra\, Reitora da UFMG\, na abertura\, per
 íodo da manhã.</p>
LAST-MODIFIED;VALUE=DATE-TIME:20220510T122421Z
URL:http://150.164.76.86:8080/cac/agenda/4834473658615052628
END:VEVENT
BEGIN:VTIMEZONE
TZID:America/Sao_Paulo
X-LIC-LOCATION:America/Sao_Paulo
BEGIN:STANDARD
DTSTART;VALUE=DATE-TIME:20220219T230000
TZNAME:BRT
TZOFFSETFROM:-0200
TZOFFSETTO:-0300
END:STANDARD
END:VTIMEZONE
END:VCALENDAR
