BEGIN:VCALENDAR
VERSION:2.0
PRODID:-//Plone.org//NONSGML plone.app.event//EN
X-WR-TIMEZONE:America/Sao_Paulo
BEGIN:VEVENT
SUMMARY:Abertura das comemorações dos 90 anos da EV e outorga de título
  de Prof. Emérito em [ Outros espacos]
DTSTART;TZID=America/Sao_Paulo;VALUE=DATE-TIME:20220429T180000
DTEND;TZID=America/Sao_Paulo;VALUE=DATE-TIME:20220429T210000
DTSTAMP;VALUE=DATE-TIME:20260422T093350Z
UID:d69a2e85a5ef49d5aaabdeae51973b21@150.164.76.86:8080
CREATED;VALUE=DATE-TIME:20220412T125035Z
DESCRIPTION:<p>Apoio técnico - disponibilização de uma câmera filmador
 a com dois técnicos de audiovisual para auxiliar no evento. A Unidade já
  possui um técnico em audiovisual\, uma câmera filmadora e uma mesa de e
 dição\, necessitando do auxílio de mais técnicos\, por ser um único s
 ervidor da Unidade.</p>
LAST-MODIFIED;VALUE=DATE-TIME:20220420T124702Z
URL:http://150.164.76.86:8080/cac/agenda/4829332420848604402
END:VEVENT
BEGIN:VTIMEZONE
TZID:America/Sao_Paulo
X-LIC-LOCATION:America/Sao_Paulo
BEGIN:STANDARD
DTSTART;VALUE=DATE-TIME:20220219T230000
TZNAME:BRT
TZOFFSETFROM:-0200
TZOFFSETTO:-0300
END:STANDARD
END:VTIMEZONE
END:VCALENDAR
