BEGIN:VCALENDAR
VERSION:2.0
PRODID:-//Plone.org//NONSGML plone.app.event//EN
X-WR-TIMEZONE:America/Sao_Paulo
BEGIN:VEVENT
SUMMARY:Entrega da Medalha Israel Vargas do Mérito em Pesquisa Edição 2
 022 em [ Auditório B106 do CAD3]
DTSTART;TZID=America/Sao_Paulo;VALUE=DATE-TIME:20221111T150000
DTEND;TZID=America/Sao_Paulo;VALUE=DATE-TIME:20221111T180000
DTSTAMP;VALUE=DATE-TIME:20260421T221704Z
UID:09327d409e76488e9ae8cc100fce003b@150.164.76.86:8080
CREATED;VALUE=DATE-TIME:20220830T114919Z
DESCRIPTION:<p>Cerimônia de premiação da Medalha José Israel Vargas do
  Mérito em Pesquisa em sua edição 2022. Essa premiação tem como objet
 ivo homenagear um(a) pesquisador(a) na área de química\, de qualquer est
 ado da Federação\, que contribuiu de forma significa para o desenvolvime
 nto das ciências químicas. Esta edição irá homenagear a professora Al
 aíde Braga de Oliveira.</p>
LAST-MODIFIED;VALUE=DATE-TIME:20221104T214014Z
URL:http://150.164.76.86:8080/cac/agenda/4818713993364710612
END:VEVENT
BEGIN:VTIMEZONE
TZID:America/Sao_Paulo
X-LIC-LOCATION:America/Sao_Paulo
BEGIN:DAYLIGHT
DTSTART;VALUE=DATE-TIME:20221016T010000
TZNAME:BRST
TZOFFSETFROM:-0300
TZOFFSETTO:-0200
END:DAYLIGHT
END:VTIMEZONE
END:VCALENDAR
