BEGIN:VCALENDAR
VERSION:2.0
PRODID:-//Plone.org//NONSGML plone.app.event//EN
X-WR-TIMEZONE:America/Sao_Paulo
BEGIN:VEVENT
SUMMARY:Feira de Artesanato em [ Em torno da Praca de Servicos]
DTSTART;TZID=America/Sao_Paulo;VALUE=DATE-TIME:20221128T070000
DTEND;TZID=America/Sao_Paulo;VALUE=DATE-TIME:20221202T180000
DTSTAMP;VALUE=DATE-TIME:20260421T192234Z
UID:5722553e20624870b6640114d72ad610@150.164.76.86:8080
CREATED;VALUE=DATE-TIME:20220728T153747Z
DESCRIPTION:Necessitaremos de painéis e limpeza do local.
LAST-MODIFIED;VALUE=DATE-TIME:20220804T173102Z
URL:http://150.164.76.86:8080/cac/agenda/4799239327427682191
END:VEVENT
BEGIN:VTIMEZONE
TZID:America/Sao_Paulo
X-LIC-LOCATION:America/Sao_Paulo
BEGIN:DAYLIGHT
DTSTART;VALUE=DATE-TIME:20221016T010000
TZNAME:BRST
TZOFFSETFROM:-0300
TZOFFSETTO:-0200
END:DAYLIGHT
END:VTIMEZONE
END:VCALENDAR
