BEGIN:VCALENDAR
VERSION:2.0
PRODID:-//Plone.org//NONSGML plone.app.event//EN
X-WR-TIMEZONE:America/Sao_Paulo
BEGIN:VEVENT
SUMMARY:VI Encontro Nacional do PROFBIO em [ Auditorio Nobre do CAD 1]
DTSTART;TZID=America/Sao_Paulo;VALUE=DATE-TIME:20231108T080000
DTEND;TZID=America/Sao_Paulo;VALUE=DATE-TIME:20231111T130000
DTSTAMP;VALUE=DATE-TIME:20260420T131703Z
UID:c1cd48b29e79452d953be036908fd60b@150.164.76.86:8080
CREATED;VALUE=DATE-TIME:20221103T184501Z
DESCRIPTION:<p>VI Encontro Nacional do PROFBIO com a participação dos di
 scentes\, docentes e coordenadores de toda Rede.</p>
LAST-MODIFIED;VALUE=DATE-TIME:20230203T123946Z
URL:http://150.164.76.86:8080/cac/agenda/4782620064324612279
END:VEVENT
BEGIN:VTIMEZONE
TZID:America/Sao_Paulo
X-LIC-LOCATION:America/Sao_Paulo
BEGIN:DAYLIGHT
DTSTART;VALUE=DATE-TIME:20231015T010000
TZNAME:BRST
TZOFFSETFROM:-0300
TZOFFSETTO:-0200
END:DAYLIGHT
END:VTIMEZONE
END:VCALENDAR
