BEGIN:VCALENDAR
VERSION:2.0
PRODID:-//Plone.org//NONSGML plone.app.event//EN
X-WR-TIMEZONE:America/Sao_Paulo
BEGIN:VEVENT
SUMMARY:RECEPÇÃO DE CALOUROS DO DCC em [ Auditório B106 do CAD3 - s/ ar
  condicionado]
DTSTART;TZID=America/Sao_Paulo;VALUE=DATE-TIME:20250312T130000
DTEND;TZID=America/Sao_Paulo;VALUE=DATE-TIME:20250312T190000
DTSTAMP;VALUE=DATE-TIME:20260419T120121Z
UID:85eb5d0a36144dd48a0200f4857701e8@150.164.76.86:8080
CREATED;VALUE=DATE-TIME:20241210T153214Z
DESCRIPTION:<p>PROGRAMAÇÃO EM ANDAMENTO</p>
LAST-MODIFIED;VALUE=DATE-TIME:20250211T201456Z
URL:http://150.164.76.86:8080/cac/agenda/475071972783211231
END:VEVENT
BEGIN:VTIMEZONE
TZID:America/Sao_Paulo
X-LIC-LOCATION:America/Sao_Paulo
BEGIN:STANDARD
DTSTART;VALUE=DATE-TIME:20250215T230000
TZNAME:BRT
TZOFFSETFROM:-0200
TZOFFSETTO:-0300
END:STANDARD
END:VTIMEZONE
END:VCALENDAR
