BEGIN:VCALENDAR
VERSION:2.0
PRODID:-//Plone.org//NONSGML plone.app.event//EN
X-WR-TIMEZONE:America/Sao_Paulo
BEGIN:VEVENT
SUMMARY:Quarta Doze e Trinta em [ Auditorio da Reitoria]
DTSTART;TZID=America/Sao_Paulo;VALUE=DATE-TIME:20220621T120000
DTEND;TZID=America/Sao_Paulo;VALUE=DATE-TIME:20220622T150000
DTSTAMP;VALUE=DATE-TIME:20260422T064746Z
UID:4d3d70d6a39641d8ac81a7ef124466d8@150.164.76.86:8080
CREATED;VALUE=DATE-TIME:20220419T183247Z
DESCRIPTION:<p>Apresentação musical: Odilon Esteves</p>
LAST-MODIFIED;VALUE=DATE-TIME:20220609T191307Z
URL:http://150.164.76.86:8080/cac/agenda/4747123397161983904
END:VEVENT
BEGIN:VTIMEZONE
TZID:America/Sao_Paulo
X-LIC-LOCATION:America/Sao_Paulo
BEGIN:STANDARD
DTSTART;VALUE=DATE-TIME:20220219T230000
TZNAME:BRT
TZOFFSETFROM:-0200
TZOFFSETTO:-0300
END:STANDARD
END:VTIMEZONE
END:VCALENDAR
