BEGIN:VCALENDAR
VERSION:2.0
PRODID:-//Plone.org//NONSGML plone.app.event//EN
X-WR-TIMEZONE:America/Sao_Paulo
BEGIN:VEVENT
SUMMARY:Seminário EMBRAPII em [ Auditório B101 do CAD 3]
DTSTART;TZID=America/Sao_Paulo;VALUE=DATE-TIME:20221104T070000
DTEND;TZID=America/Sao_Paulo;VALUE=DATE-TIME:20221104T130000
DTSTAMP;VALUE=DATE-TIME:20260421T204451Z
UID:91d7599a8b17436abb485227222d37bd@150.164.76.86:8080
CREATED;VALUE=DATE-TIME:20220826T183211Z
DESCRIPTION:<p>Seminário DCC-EMBRAPII Serão necessários: Microfone Som 
 Projetor e tela de projeção</p>
LAST-MODIFIED;VALUE=DATE-TIME:20221024T110357Z
URL:http://150.164.76.86:8080/cac/agenda/4740581137138698078
END:VEVENT
BEGIN:VTIMEZONE
TZID:America/Sao_Paulo
X-LIC-LOCATION:America/Sao_Paulo
BEGIN:DAYLIGHT
DTSTART;VALUE=DATE-TIME:20221016T010000
TZNAME:BRST
TZOFFSETFROM:-0300
TZOFFSETTO:-0200
END:DAYLIGHT
END:VTIMEZONE
END:VCALENDAR
