BEGIN:VCALENDAR
VERSION:2.0
PRODID:-//Plone.org//NONSGML plone.app.event//EN
X-WR-TIMEZONE:America/Sao_Paulo
BEGIN:VEVENT
SUMMARY:Colação de grau dos alunos dos cursos técnicos do Colégio Téc
 nico em [ Auditorio Nobre do CAD 1]
DTSTART;TZID=America/Sao_Paulo;VALUE=DATE-TIME:20231215T180000
DTEND;TZID=America/Sao_Paulo;VALUE=DATE-TIME:20231215T210000
DTSTAMP;VALUE=DATE-TIME:20260420T114819Z
UID:a8708b816cb541ff9092979f4f7ad3a6@150.164.76.86:8080
CREATED;VALUE=DATE-TIME:20230619T171145Z
DESCRIPTION:<p>equipamento de som completo\, mesas\, serviço de limpeza\,
  serviço de recepção\, entre outros</p>
LAST-MODIFIED;VALUE=DATE-TIME:20230710T200222Z
URL:http://150.164.76.86:8080/cac/agenda/4736250778396029744
END:VEVENT
BEGIN:VTIMEZONE
TZID:America/Sao_Paulo
X-LIC-LOCATION:America/Sao_Paulo
BEGIN:DAYLIGHT
DTSTART;VALUE=DATE-TIME:20231015T010000
TZNAME:BRST
TZOFFSETFROM:-0300
TZOFFSETTO:-0200
END:DAYLIGHT
END:VTIMEZONE
END:VCALENDAR
