BEGIN:VCALENDAR
VERSION:2.0
PRODID:-//Plone.org//NONSGML plone.app.event//EN
X-WR-TIMEZONE:America/Sao_Paulo
BEGIN:VEVENT
SUMMARY:Palestra em [ Outros espacos]
DTSTART;TZID=America/Sao_Paulo;VALUE=DATE-TIME:20231005T110000
DTEND;TZID=America/Sao_Paulo;VALUE=DATE-TIME:20231005T123000
DTSTAMP;VALUE=DATE-TIME:20260421T020255Z
UID:458067d86f314b40ae836096ba96f88d@150.164.76.86:8080
CREATED;VALUE=DATE-TIME:20231002T143826Z
DESCRIPTION:<p>Palestra</p>
LAST-MODIFIED;VALUE=DATE-TIME:20231002T143838Z
URL:http://150.164.76.86:8080/cac/agenda/4735479934669853373
END:VEVENT
BEGIN:VTIMEZONE
TZID:America/Sao_Paulo
X-LIC-LOCATION:America/Sao_Paulo
BEGIN:STANDARD
DTSTART;VALUE=DATE-TIME:20230225T230000
TZNAME:BRT
TZOFFSETFROM:-0200
TZOFFSETTO:-0300
END:STANDARD
END:VTIMEZONE
END:VCALENDAR
