BEGIN:VCALENDAR
VERSION:2.0
PRODID:-//Plone.org//NONSGML plone.app.event//EN
X-WR-TIMEZONE:America/Sao_Paulo
BEGIN:VEVENT
SUMMARY:Aviva Universitario em [ Entorno da Praca de Servicos]
DTSTART;TZID=America/Sao_Paulo;VALUE=DATE-TIME:20241127T180000
DTEND;TZID=America/Sao_Paulo;VALUE=DATE-TIME:20241127T190000
DTSTAMP;VALUE=DATE-TIME:20260419T204324Z
UID:b7657eb6623b45a5b45fa6752f040fed@150.164.76.86:8080
CREATED;VALUE=DATE-TIME:20241113T175842Z
DESCRIPTION:1. INTRODUÇÃO \n\nEsse evento visa oferecer a comunidade uni
 versitária estímulos positivos\, tanto no aspecto psicológico\, moral e
  espiritual.\n\n2. METODOLOGIA\n\nSerão utilizado métodos de palestras e
  músicas como formas de passagem de informação para os participantes do
  evento.\n\n3. EQUIPAMENTOS \n\nApenas violão sem uso de amplificadores\,
  visando respeitar o ambiente acadêmico sem volume elevado.\n\n4. RESULTA
 DO ESPERADOS\n\nEsperamos com esse evento que os participantes se sintam m
 elhores e mais motivados para o fim do semestre\, aja vista que estamos cu
 mprindo um calendário pós greve com aulas em dezembro e em janeiro.\n\n5
 . PÚBLICO ALVO \n\nalunos \, alunas\, professores e\nProfessoras e toda c
 omunidade acadêmica.
LAST-MODIFIED;VALUE=DATE-TIME:20241113T182957Z
URL:http://150.164.76.86:8080/cac/agenda/4728553395090784033
END:VEVENT
BEGIN:VTIMEZONE
TZID:America/Sao_Paulo
X-LIC-LOCATION:America/Sao_Paulo
BEGIN:DAYLIGHT
DTSTART;VALUE=DATE-TIME:20241020T010000
TZNAME:BRST
TZOFFSETFROM:-0300
TZOFFSETTO:-0200
END:DAYLIGHT
END:VTIMEZONE
END:VCALENDAR
