BEGIN:VCALENDAR
VERSION:2.0
PRODID:-//Plone.org//NONSGML plone.app.event//EN
X-WR-TIMEZONE:America/Sao_Paulo
BEGIN:VEVENT
SUMMARY:PROFESSOR EMÉRITO DA ECI - 3 TÍTULOS em [ Auditorio da Reitoria]
DTSTART;TZID=America/Sao_Paulo;VALUE=DATE-TIME:20250312T170000
DTEND;TZID=America/Sao_Paulo;VALUE=DATE-TIME:20250312T210000
DTSTAMP;VALUE=DATE-TIME:20260419T120252Z
UID:de3161734d0046118060d2038c517196@150.164.76.86:8080
CREATED;VALUE=DATE-TIME:20250219T194333Z
DESCRIPTION:<div>E-mail recebido no coord@cac.ufmg.br\, dia 19 de fevereir
 o\, às 16h23:</div>\n<div></div>\n<div>Prezada Sheila\, boa tarde</div>\n
 <div></div>\n<div>Conforme contato telefônico hoje a tarde\, gostaria de 
 consultá-la sobre a disponibilidade de reserva do auditório da <b>Reitor
 ia ou Auditório do CAD 2 para o dia 12 de março de 2025 de 17 às 21h</b
 > para realização de cerimônia de entrega de 3 títulos de professor em
 érito da ECI uma vez que o auditório a ECI comporta somente 88 pessoas e
  temos expectativa de cerca de 150 pessoas presentes.</div>\n<div></div>\n
 <div>Ficamos no aguardo de retorno para posicionarmos o cerimonial da reit
 ora em tempo de enviar os convites com antecedência devida</div>\n<div></
 div>\n<div>Muito grato</div>\n<div></div>\n<div></div>\n<div>\n<div><span>
 <span>Atenciosamente\,</span></span></div>\n<div><span><span> </span></sp
 an></div>\n<div><span><span><b>Prof. Eduardo Valadares</b></span></span></
 div>\n<div><span><span>Diretor da Escola de Ciência da Informação </sp
 an><span>|</span><span> </span><span>UFMG </span><br /></span></div>\n<d
 iv>\n<div class="gmail_signature" dir="ltr" data-smartmail="gmail_signatur
 e">\n<div dir="ltr">\n<div><a href="mailto:jfgcampos@eci.ufmg.br" target="
 _blank">dir@eci.ufmg.br</a><span> | </span><span>(31) 3409-5250 </span>
 </div>\n</div>\n</div>\n</div>\n</div>
LAST-MODIFIED;VALUE=DATE-TIME:20250225T190433Z
URL:http://150.164.76.86:8080/cac/agenda/4726961512602263998
END:VEVENT
BEGIN:VTIMEZONE
TZID:America/Sao_Paulo
X-LIC-LOCATION:America/Sao_Paulo
BEGIN:STANDARD
DTSTART;VALUE=DATE-TIME:20250215T230000
TZNAME:BRT
TZOFFSETFROM:-0200
TZOFFSETTO:-0300
END:STANDARD
END:VTIMEZONE
END:VCALENDAR
