BEGIN:VCALENDAR
VERSION:2.0
PRODID:-//Plone.org//NONSGML plone.app.event//EN
X-WR-TIMEZONE:America/Sao_Paulo
BEGIN:VEVENT
SUMMARY:Seminário do curso Formação Continuada para Profissionais da Ed
 ucação Básica na Perspectiva da Educação Integral em Tempo Integral d
 o Programa Escola em Tempo Integral - MEC/UFMG/ Minas Gerais em [ Auditori
 o Nobre do CAD 1 - sem copa\, saguão parcial]
DTSTART;TZID=America/Sao_Paulo;VALUE=DATE-TIME:20250530T080000
DTEND;TZID=America/Sao_Paulo;VALUE=DATE-TIME:20250530T170000
DTSTAMP;VALUE=DATE-TIME:20260419T091303Z
UID:db30e9b1b259491295a173870b8acd56@150.164.76.86:8080
CREATED;VALUE=DATE-TIME:20250515T141643Z
DESCRIPTION:<p>O curso “Formação Continuada para Profissionais da Educ
 ação Básica na Perspectiva da Educação Integral em Tempo Integral (ET
 I-MG)” é vinculado ao Programa do Ministério da Educação instituído
  pela LEI Nº 14.640\, de 31 DE JULHO DE 2023 que tem como finalidade fome
 ntar a criação de matrículas na educação básica em tempo integral. O
  curso ETI-MG é uma iniciativa essencial para a formação continuada das
  gestões municipais\, tendo como foco a ampliação do conhecimento e a i
 mplementação de práticas pedagógicas voltadas para a Educação Integr
 al em Tempo Integral. A formação continuada dos profissionais da educaç
 ão é um dos pilares fundamentais para a implementação e continuidade d
 esse Programa. Entre as atividades do curso\, está programado eventos pre
 senciais\, em formatos de seminários\, com os secretários e técnicos da
 s secretarias municipais e estaduais. A programação conta com mesas tem
 áticas a serem detalhadas nos próximos dias.</p>
LAST-MODIFIED;VALUE=DATE-TIME:20250515T141826Z
URL:http://150.164.76.86:8080/cac/agenda/4726008356888188160
END:VEVENT
BEGIN:VTIMEZONE
TZID:America/Sao_Paulo
X-LIC-LOCATION:America/Sao_Paulo
BEGIN:STANDARD
DTSTART;VALUE=DATE-TIME:20250215T230000
TZNAME:BRT
TZOFFSETFROM:-0200
TZOFFSETTO:-0300
END:STANDARD
END:VTIMEZONE
END:VCALENDAR
