BEGIN:VCALENDAR
VERSION:2.0
PRODID:-//Plone.org//NONSGML plone.app.event//EN
X-WR-TIMEZONE:America/Sao_Paulo
BEGIN:VEVENT
SUMMARY:Quarta Doze e Trinta (Lucinha Bosco) em [ Arena da praça de servi
 ços Em torno da Praca de Servicos]
DTSTART;TZID=America/Sao_Paulo;VALUE=DATE-TIME:20221005T080000
DTEND;TZID=America/Sao_Paulo;VALUE=DATE-TIME:20221005T150000
DTSTAMP;VALUE=DATE-TIME:20260421T221710Z
UID:55bb0f8198d54f9dbcd536413143efca@150.164.76.86:8080
CREATED;VALUE=DATE-TIME:20220525T201809Z
DESCRIPTION:Apresentação Lucinha Bosco\n\nNecessário serviço de som
LAST-MODIFIED;VALUE=DATE-TIME:20220531T152316Z
URL:http://150.164.76.86:8080/cac/agenda/4712147796412025986
END:VEVENT
BEGIN:VTIMEZONE
TZID:America/Sao_Paulo
X-LIC-LOCATION:America/Sao_Paulo
BEGIN:STANDARD
DTSTART;VALUE=DATE-TIME:20220219T230000
TZNAME:BRT
TZOFFSETFROM:-0200
TZOFFSETTO:-0300
END:STANDARD
END:VTIMEZONE
END:VCALENDAR
