BEGIN:VCALENDAR
VERSION:2.0
PRODID:-//Plone.org//NONSGML plone.app.event//EN
X-WR-TIMEZONE:America/Sao_Paulo
BEGIN:VEVENT
SUMMARY:Posse Diretoria ICB em [ Outros espacos]
DTSTART;TZID=America/Sao_Paulo;VALUE=DATE-TIME:20220527T100000
DTEND;TZID=America/Sao_Paulo;VALUE=DATE-TIME:20220527T120000
DTSTAMP;VALUE=DATE-TIME:20260422T081436Z
UID:d71f82dd998e4cfb8cc9a29c99a8733f@150.164.76.86:8080
CREATED;VALUE=DATE-TIME:20220511T113107Z
DESCRIPTION:<p>Posse com auxílio da CAC</p>
LAST-MODIFIED;VALUE=DATE-TIME:20220526T123619Z
URL:http://150.164.76.86:8080/cac/agenda/4702963328396763814
END:VEVENT
BEGIN:VTIMEZONE
TZID:America/Sao_Paulo
X-LIC-LOCATION:America/Sao_Paulo
BEGIN:STANDARD
DTSTART;VALUE=DATE-TIME:20220219T230000
TZNAME:BRT
TZOFFSETFROM:-0200
TZOFFSETTO:-0300
END:STANDARD
END:VTIMEZONE
END:VCALENDAR
