BEGIN:VCALENDAR
VERSION:2.0
PRODID:-//Plone.org//NONSGML plone.app.event//EN
X-WR-TIMEZONE:America/Sao_Paulo
BEGIN:VEVENT
SUMMARY:Jornada de empreendedorismo em Nanotecnologia Merck UFMG em [ Audi
 tório B107 do CAD3]
DTSTART;TZID=America/Sao_Paulo;VALUE=DATE-TIME:20240520T080000
DTEND;TZID=America/Sao_Paulo;VALUE=DATE-TIME:20240522T170000
DTSTAMP;VALUE=DATE-TIME:20260420T032142Z
UID:8c36006219e14942b39358e231ae572b@150.164.76.86:8080
CREATED;VALUE=DATE-TIME:20240314T110002Z
DESCRIPTION:1
LAST-MODIFIED;VALUE=DATE-TIME:20240506T200401Z
URL:http://150.164.76.86:8080/cac/agenda/4688725404012892532
END:VEVENT
BEGIN:VTIMEZONE
TZID:America/Sao_Paulo
X-LIC-LOCATION:America/Sao_Paulo
BEGIN:STANDARD
DTSTART;VALUE=DATE-TIME:20240217T230000
TZNAME:BRT
TZOFFSETFROM:-0200
TZOFFSETTO:-0300
END:STANDARD
END:VTIMEZONE
END:VCALENDAR
