BEGIN:VCALENDAR
VERSION:2.0
PRODID:-//Plone.org//NONSGML plone.app.event//EN
X-WR-TIMEZONE:America/Sao_Paulo
BEGIN:VEVENT
SUMMARY:Congresso Luso-Brasileiro em Arquitetura e Engenharia em [ Auditor
 io A102 do Cad 2 Auditorio A104 do Cad 2]
DTSTART;TZID=America/Sao_Paulo;VALUE=DATE-TIME:20230605T080000
DTEND;TZID=America/Sao_Paulo;VALUE=DATE-TIME:20230606T200000
DTSTAMP;VALUE=DATE-TIME:20260421T150024Z
UID:2d835a7ff7cd4860afe59a1bfe172faf@150.164.76.86:8080
CREATED;VALUE=DATE-TIME:20221104T195144Z
DESCRIPTION:<p>ESTA SOLICITAÇÃO SUBSTITUI AS ANTERIORES\, DEVENDO AS MES
 MAS SEREM ANULADAS. ESTA SOLICITAÇÃO PRETENDE REUNIR TODOS OS EVENTOS NO
  MESMO ESPAÇO. NESTE CASO NO CAD 2. AS SOLICITAÇÕES DO CAD 3 FICAM SEM 
 EFEITO. De 5 a 9 de junho decorrerá na UFMG uma semana dedicada ao ensino
  e pesquisa em Arquitetura e Engenharia. Assim de 5 a 6 de junho de 2023\,
  terá lugar uma Escola Interdisciplinar em Arquitetura e Engenharia\, ond
 e especialistas de dentro e fora do meio académico\, vem apresentar desen
 volvimentos na área\, em um conjunto de aulas para alunos e técnicos em 
 geral. No dia 7 de junho\, terá um Workshop de Trabalhos Académicos em A
 rquitetura e Engenharia. Neste Workshop alunos de graduação em final de 
 curso apresentarão os seus TCC\, alunos de mestrado as suas dissertaçõe
 s e alunos de doutorado as suas teses. Estes trabalhos terão de ser na in
 terface entre a Arquitetura e a Engenharia. De 8 a 9 de junho\, terá luga
 r o Congresso Luso-Brasileiro em Arquitetura e Engenharia. Neste caso ser
 ão apresentados trabalhos científicos por alunos\, pesquisadores\, profe
 ssores\, técnicos atuantes na área. Os eventos estão no site: www.clbae
 2023.org</p>
LAST-MODIFIED;VALUE=DATE-TIME:20230227T195125Z
URL:http://150.164.76.86:8080/cac/agenda/4683985832712128133
END:VEVENT
BEGIN:VTIMEZONE
TZID:America/Sao_Paulo
X-LIC-LOCATION:America/Sao_Paulo
BEGIN:STANDARD
DTSTART;VALUE=DATE-TIME:20230225T230000
TZNAME:BRT
TZOFFSETFROM:-0200
TZOFFSETTO:-0300
END:STANDARD
END:VTIMEZONE
END:VCALENDAR
