BEGIN:VCALENDAR
VERSION:2.0
PRODID:-//Plone.org//NONSGML plone.app.event//EN
X-WR-TIMEZONE:America/Sao_Paulo
BEGIN:VEVENT
SUMMARY:Recepção de Calouros 2/2023 em [ Auditorio da Reitoria Saguao da
  Reitoria Gramado da Reitoria Arena da praça de serviços Entorno da Prac
 a de Servicos Auditorio Nobre do CAD 1 Auditorio 1A do CAD 1 Auditorio 2A 
 do CAD 1 Auditório B101/102 do CAD 3 Auditório B301 do CAD 3 Auditório 
 B302 do CAD 3 Auditório B107 do CAD3 Outros espacos]
DTSTART;TZID=America/Sao_Paulo;VALUE=DATE-TIME:20230816T060000
DTEND;TZID=America/Sao_Paulo;VALUE=DATE-TIME:20230816T220000
DTSTAMP;VALUE=DATE-TIME:20260421T091459Z
UID:d387ecfd5f8145de8ad3fb324baa92ad@150.164.76.86:8080
CREATED;VALUE=DATE-TIME:20221227T140520Z
DESCRIPTION:<p>Recepção de Calouros 2/2023</p>
LAST-MODIFIED;VALUE=DATE-TIME:20230801T150147Z
URL:http://150.164.76.86:8080/cac/agenda/4670056339553598554
END:VEVENT
BEGIN:VTIMEZONE
TZID:America/Sao_Paulo
X-LIC-LOCATION:America/Sao_Paulo
BEGIN:STANDARD
DTSTART;VALUE=DATE-TIME:20230225T230000
TZNAME:BRT
TZOFFSETFROM:-0200
TZOFFSETTO:-0300
END:STANDARD
END:VTIMEZONE
END:VCALENDAR
