BEGIN:VCALENDAR
VERSION:2.0
PRODID:-//Plone.org//NONSGML plone.app.event//EN
X-WR-TIMEZONE:America/Sao_Paulo
BEGIN:VEVENT
SUMMARY:Quarta Doze e Trinta em [ Auditorio da Reitoria]
DTSTART;TZID=America/Sao_Paulo;VALUE=DATE-TIME:20220607T120000
DTEND;TZID=America/Sao_Paulo;VALUE=DATE-TIME:20220608T170000
DTSTAMP;VALUE=DATE-TIME:20260422T050928Z
UID:78c97cc1503f4380a6a748be178d0451@150.164.76.86:8080
CREATED;VALUE=DATE-TIME:20220419T182842Z
DESCRIPTION:<p>Apresentação da Banda Geraes Big Band</p>
LAST-MODIFIED;VALUE=DATE-TIME:20220606T160906Z
URL:http://150.164.76.86:8080/cac/agenda/4660536258187874224
END:VEVENT
BEGIN:VTIMEZONE
TZID:America/Sao_Paulo
X-LIC-LOCATION:America/Sao_Paulo
BEGIN:STANDARD
DTSTART;VALUE=DATE-TIME:20220219T230000
TZNAME:BRT
TZOFFSETFROM:-0200
TZOFFSETTO:-0300
END:STANDARD
END:VTIMEZONE
END:VCALENDAR
