BEGIN:VCALENDAR
VERSION:2.0
PRODID:-//Plone.org//NONSGML plone.app.event//EN
X-WR-TIMEZONE:America/Sao_Paulo
BEGIN:VEVENT
SUMMARY:Abertura do ciclo de debates das licenciaturas em [ Auditorio da R
 eitoria]
DTSTART;TZID=America/Sao_Paulo;VALUE=DATE-TIME:20240705T103000
DTEND;TZID=America/Sao_Paulo;VALUE=DATE-TIME:20240705T120000
DTSTAMP;VALUE=DATE-TIME:20260419T222834Z
UID:ca3352df118d4fbd87c0c95dbd08eae3@150.164.76.86:8080
CREATED;VALUE=DATE-TIME:20240617T100919Z
DESCRIPTION:<p>microfone de mesa. microfone com pedestal. projeção.</p>
LAST-MODIFIED;VALUE=DATE-TIME:20240620T200923Z
URL:http://150.164.76.86:8080/cac/agenda/4659097463646349017
END:VEVENT
BEGIN:VTIMEZONE
TZID:America/Sao_Paulo
X-LIC-LOCATION:America/Sao_Paulo
BEGIN:STANDARD
DTSTART;VALUE=DATE-TIME:20240217T230000
TZNAME:BRT
TZOFFSETFROM:-0200
TZOFFSETTO:-0300
END:STANDARD
END:VTIMEZONE
END:VCALENDAR
