BEGIN:VCALENDAR
VERSION:2.0
PRODID:-//Plone.org//NONSGML plone.app.event//EN
X-WR-TIMEZONE:America/Sao_Paulo
BEGIN:VEVENT
SUMMARY:3° Café Hidrogeológico LEHID-IGC-UFMG em [ Auditorio A102 do Ca
 d 2]
DTSTART;TZID=America/Sao_Paulo;VALUE=DATE-TIME:20250424T090000
DTEND;TZID=America/Sao_Paulo;VALUE=DATE-TIME:20250425T200000
DTSTAMP;VALUE=DATE-TIME:20260419T120157Z
UID:6187726841124df39292b737f64f6288@150.164.76.86:8080
CREATED;VALUE=DATE-TIME:20250205T102714Z
DESCRIPTION:Nome do evento: 3° Café Hidrogeológico LEHID-IGC-UFMG\nNome
  do responsável: Paulo Henrique Ferreira Galvão\nTelefone de contato: (3
 1) 99318-2049\nVinculo: IGC-UFMG\nPúblico alvo: Pesquisadores\, Profissio
 nais e Estudantes\, com estimativa de 250 pessoas\n\nObservação: Encontr
 o realizado pelo Laboratório de Estudos Hidrogeológicos do IGC/UFMG para
  discutir assuntos relacionados aos recursos hídricos do estado de Minas 
 Gerais. Evento com a participação aberta de pesquisadores\, professores\
 , profissionais\, estudantes (graduação e pós-graduação) e empresas c
 om interesses em hidrogeologia\, geologia ambiental\, engenharias\, geotec
 nia e áreas afins.\n\nMarcações\nLocal: Auditório A102 do Cad 2 - 24/0
 4/2025: 09:00 até 20:00\nLocal: Auditório A102 do Cad 2 - 25/04/2025: 09
 :00 até 19:00
LAST-MODIFIED;VALUE=DATE-TIME:20250205T174012Z
URL:http://150.164.76.86:8080/cac/agenda/4649527952100858647
END:VEVENT
BEGIN:VTIMEZONE
TZID:America/Sao_Paulo
X-LIC-LOCATION:America/Sao_Paulo
BEGIN:STANDARD
DTSTART;VALUE=DATE-TIME:20250215T230000
TZNAME:BRT
TZOFFSETFROM:-0200
TZOFFSETTO:-0300
END:STANDARD
END:VTIMEZONE
END:VCALENDAR
