BEGIN:VCALENDAR
VERSION:2.0
PRODID:-//Plone.org//NONSGML plone.app.event//EN
X-WR-TIMEZONE:America/Sao_Paulo
BEGIN:VEVENT
SUMMARY:Apresentação Sarandeiros em [ Auditorio Nobre do CAD 1]
DTSTART;TZID=America/Sao_Paulo;VALUE=DATE-TIME:20230329T080000
DTEND;TZID=America/Sao_Paulo;VALUE=DATE-TIME:20230329T150000
DTSTAMP;VALUE=DATE-TIME:20260421T163336Z
UID:83c1398785574ebdb119aa29ceabbce7@150.164.76.86:8080
CREATED;VALUE=DATE-TIME:20230328T141156Z
DESCRIPTION:Som\, luz e técnica
LAST-MODIFIED;VALUE=DATE-TIME:20230328T143433Z
URL:http://150.164.76.86:8080/cac/agenda/4642844003420391801
END:VEVENT
BEGIN:VTIMEZONE
TZID:America/Sao_Paulo
X-LIC-LOCATION:America/Sao_Paulo
BEGIN:STANDARD
DTSTART;VALUE=DATE-TIME:20230225T230000
TZNAME:BRT
TZOFFSETFROM:-0200
TZOFFSETTO:-0300
END:STANDARD
END:VTIMEZONE
END:VCALENDAR
