BEGIN:VCALENDAR
VERSION:2.0
PRODID:-//Plone.org//NONSGML plone.app.event//EN
X-WR-TIMEZONE:America/Sao_Paulo
BEGIN:VEVENT
SUMMARY:Prova Final - Disciplina Let 223 - Fundamentos de Libras em [ Audi
 torio A102 do Cad 2 Auditorio A104 do Cad 2]
DTSTART;TZID=America/Sao_Paulo;VALUE=DATE-TIME:20200620T080000
DTEND;TZID=America/Sao_Paulo;VALUE=DATE-TIME:20200620T120000
DTSTAMP;VALUE=DATE-TIME:20260424T224342Z
UID:b8f81f5782e3427aacfe59559759d181@150.164.76.86:8080
CREATED;VALUE=DATE-TIME:20200225T153154Z
DESCRIPTION:A disciplina Let 223 é online\, e atende 1200 alunos por seme
 stre. Desta forma\, os docentes desta disciplina necessitam dos auditório
 s da Universidade para conseguirem aplicar a prova final. Obrigada
LAST-MODIFIED;VALUE=DATE-TIME:20200303T131920Z
URL:http://150.164.76.86:8080/cac/agenda/4633040188759248174
END:VEVENT
BEGIN:VTIMEZONE
TZID:America/Sao_Paulo
X-LIC-LOCATION:America/Sao_Paulo
BEGIN:STANDARD
DTSTART;VALUE=DATE-TIME:20200215T230000
TZNAME:BRT
TZOFFSETFROM:-0200
TZOFFSETTO:-0300
END:STANDARD
END:VTIMEZONE
END:VCALENDAR
