BEGIN:VCALENDAR
VERSION:2.0
PRODID:-//Plone.org//NONSGML plone.app.event//EN
X-WR-TIMEZONE:America/Sao_Paulo
BEGIN:VEVENT
SUMMARY:Concurso Público de Professor Efetivo de HISTÓRIA do Centro Peda
 gógico-CP UFMG 2024 em [ Auditorio A104 do Cad 2]
DTSTART;TZID=America/Sao_Paulo;VALUE=DATE-TIME:20250210T070000
DTEND;TZID=America/Sao_Paulo;VALUE=DATE-TIME:20250210T210000
DTSTAMP;VALUE=DATE-TIME:20260419T135025Z
UID:09ae0800b5554f789790621cb5344ff3@150.164.76.86:8080
CREATED;VALUE=DATE-TIME:20241104T133924Z
DESCRIPTION:A pedido da Professora Tânia Aretuza Ambrizi Gebara\, Diretor
 a do Centro Pedagógico - CP/EBAP/UFMG\, \nsolicito a verificação de age
 ndamento de reserva de um auditório no CAD2  para realização de Concurs
 o Público para Professores Efetivos do Centro Pedagógico-CP/EBAP/UFMG\, 
 \nna área de HISTÓRIA.\n\nResponsáveis: Profª. Tânia e Prof. Evaldo -
  Diretoria do CP (dir@cp.ufmg.br) e Luciane Lelis (Secretaria Administrati
 va do CP (CP-Secretaria <secrgeral@cp.ufmg.br>) \n\n1) Período: dia 10/02
 /2025.\n\nProgramação do dia - Auditório A104 CAD 2 \n- 07:00 - organiz
 ação do espaço para Abertura do Concurso Público  \n- de 07:30 às 10:
 00 horas - instalação da Banca do Concurso - \n- de 13:00 às 20:30 - pa
 ra aplicação da prova didática para os candidatos inscritos.\n- até 21
 :00 (encerramento das atividades no auditório).\n\nNão será necessário
  o uso de equipamentos de multimídia.
LAST-MODIFIED;VALUE=DATE-TIME:20241105T174249Z
URL:http://150.164.76.86:8080/cac/agenda/4630949487944894744
END:VEVENT
BEGIN:VTIMEZONE
TZID:America/Sao_Paulo
X-LIC-LOCATION:America/Sao_Paulo
BEGIN:DAYLIGHT
DTSTART;VALUE=DATE-TIME:20241020T010000
TZNAME:BRST
TZOFFSETFROM:-0300
TZOFFSETTO:-0200
END:DAYLIGHT
END:VTIMEZONE
END:VCALENDAR
