BEGIN:VCALENDAR
VERSION:2.0
PRODID:-//Plone.org//NONSGML plone.app.event//EN
X-WR-TIMEZONE:America/Sao_Paulo
BEGIN:VEVENT
SUMMARY:CAPACIDADE EXCEDIDA em [ Saguao da Reitoria Auditorio da Reitoria 
 Gramado da Reitoria Entorno da Praca de Servicos Auditorio 1A do CAD 1 Aud
 itorio 2A do CAD 1 Auditorio A104 do Cad 2 Arena da praça de serviços Au
 ditório B302 do CAD 3 Auditório B101/102 do CAD 3 Auditório B301 do CAD
  3]
DTSTART;TZID=America/Sao_Paulo;VALUE=DATE-TIME:20201105T180000
DTEND;TZID=America/Sao_Paulo;VALUE=DATE-TIME:20201105T230000
DTSTAMP;VALUE=DATE-TIME:20260424T160935Z
UID:409d2117e48c46a69927a713c9bf317c@150.164.76.86:8080
CREATED;VALUE=DATE-TIME:20200206T131433Z
DESCRIPTION:<p>.</p>
LAST-MODIFIED;VALUE=DATE-TIME:20230111T201048Z
URL:http://150.164.76.86:8080/cac/agenda/4625517145364054183
END:VEVENT
BEGIN:VTIMEZONE
TZID:America/Sao_Paulo
X-LIC-LOCATION:America/Sao_Paulo
BEGIN:DAYLIGHT
DTSTART;VALUE=DATE-TIME:20201018T010000
TZNAME:BRST
TZOFFSETFROM:-0300
TZOFFSETTO:-0200
END:DAYLIGHT
END:VTIMEZONE
END:VCALENDAR
