BEGIN:VCALENDAR
VERSION:2.0
PRODID:-//Plone.org//NONSGML plone.app.event//EN
X-WR-TIMEZONE:America/Sao_Paulo
BEGIN:VEVENT
SUMMARY:Concurso Público TAE da UFMG 2023 em [ Auditorio A102 do Cad 2 Au
 ditorio A104 do Cad 2 Auditório B101/102 do CAD 3 Auditório B106 do CAD3
  Auditório B107 do CAD3 Auditório B301 do CAD 3 Auditório B302 do CAD 3
  Outros espacos Auditorio Nobre do CAD 1 Auditorio 1A do CAD 1 Auditorio 2
 A do CAD 1]
DTSTART;TZID=America/Sao_Paulo;VALUE=DATE-TIME:20231029T060000
DTEND;TZID=America/Sao_Paulo;VALUE=DATE-TIME:20231029T200000
DTSTAMP;VALUE=DATE-TIME:20260420T155204Z
UID:48c49934700f4c25badfee0910597719@150.164.76.86:8080
CREATED;VALUE=DATE-TIME:20230710T184901Z
DESCRIPTION:<p>concurso TAE UFMG 2023</p>
LAST-MODIFIED;VALUE=DATE-TIME:20230926T150054Z
URL:http://150.164.76.86:8080/cac/agenda/4612623899202282014
END:VEVENT
BEGIN:VTIMEZONE
TZID:America/Sao_Paulo
X-LIC-LOCATION:America/Sao_Paulo
BEGIN:DAYLIGHT
DTSTART;VALUE=DATE-TIME:20231015T010000
TZNAME:BRST
TZOFFSETFROM:-0300
TZOFFSETTO:-0200
END:DAYLIGHT
END:VTIMEZONE
END:VCALENDAR
